BEGIN:VCALENDAR
VERSION:2.0
PRODID:-//STARS4Water - ECPv6.15.4//NONSGML v1.0//EN
CALSCALE:GREGORIAN
METHOD:PUBLISH
X-WR-CALNAME:STARS4Water
X-ORIGINAL-URL:https://stars4water.eu
X-WR-CALDESC:Events for STARS4Water
REFRESH-INTERVAL;VALUE=DURATION:PT1H
X-Robots-Tag:noindex
X-PUBLISHED-TTL:PT1H
BEGIN:VTIMEZONE
TZID:UTC
BEGIN:STANDARD
TZOFFSETFROM:+0000
TZOFFSETTO:+0000
TZNAME:UTC
DTSTART:20230101T000000
END:STANDARD
END:VTIMEZONE
BEGIN:VEVENT
DTSTART;VALUE=DATE:20230215
DTEND;VALUE=DATE:20230216
DTSTAMP:20260425T124734
CREATED:20230227T001651Z
LAST-MODIFIED:20230322T044214Z
UID:612-1676419200-1676505599@stars4water.eu
SUMMARY:STARS4Water Stakeholders Workshop on the Seine hub
DESCRIPTION:STARS4Water held its 1st Workshop with the EPTB Seine Grands Lacs\, stakeholders in the Seine River Basin\, in Paris (FR) on the 15th of February 2023. The aim of the workshop was to present\, on one hand\, the scope of the STARS4Water project and where it fits in the Seine River Basin’s own requirements towards improved water management\, and\, on the other hand\, to engage in a dialogue and a co-development process with the stakeholders. During the workshop\, the following was discussed: the main issues for water resources management in the Seine River\, and in particular for the management of the upstream reservoirs\, under extreme events and a changing climate\, the needs for additional data and/or model output information for better operations\, and the needs for accessible and actionable information to support planning and decision making.
URL:https://stars4water.eu/event/stars4water-stakeholders-workshop-on-the-seine-hub/
CATEGORIES:Workshop
ATTACH;FMTTYPE=image/jpeg:https://stars4water.eu/wp-content/uploads/2023/02/paris_15_2_23.jpg
END:VEVENT
END:VCALENDAR