BEGIN:VCALENDAR
VERSION:2.0
PRODID:-//STARS4Water - ECPv6.15.4//NONSGML v1.0//EN
CALSCALE:GREGORIAN
METHOD:PUBLISH
X-ORIGINAL-URL:https://stars4water.eu
X-WR-CALDESC:Events for STARS4Water
REFRESH-INTERVAL;VALUE=DURATION:PT1H
X-Robots-Tag:noindex
X-PUBLISHED-TTL:PT1H
BEGIN:VTIMEZONE
TZID:UTC
BEGIN:STANDARD
TZOFFSETFROM:+0000
TZOFFSETTO:+0000
TZNAME:UTC
DTSTART:20250101T000000
END:STANDARD
END:VTIMEZONE
BEGIN:VEVENT
DTSTART;VALUE=DATE:20250721
DTEND;VALUE=DATE:20250726
DTSTAMP:20260424T121442
CREATED:20250219T152055Z
LAST-MODIFIED:20250219T152222Z
UID:1784-1753056000-1753487999@stars4water.eu
SUMMARY:14th Symposium for European Freshwater Sciences (SEFS 14)\, Bolu Turkey
DESCRIPTION:The 14th Symposium for European Freshwater Sciences (SEFS 14)\, with the motto “Preserve Freshwater\, Advance Science\, and Leave Hope for Tomorrow!” will be held in Bolu\, Turkey from July 21 to 25\, 2025. \nAll scientists who can participate for this exciting symposium on different scientific topics in freshwaters and related subjects are invited. The symposium array is wide and welcome to cover all colleagues not only from Europe but also the other parts of the world. \nSEFS 14 will increase the knowledge about the freshwater ecosystems along with enriching the collaboration potentials amid researchers\, academics and scientists. This would provide improvements and innovations for the future studies while conservation issues of the freshwater systems are among the hot topics. \nSEFS 14 promises to be an outstanding event\, where there will be the opportunity to hear from world-renowned plenary speakers but also engage with fellow attendees who will share their latest research and insights. \nThe symposium offers the following: \n\nTalks by esteemed plenary speakers recognised globally\nDiverse range of regular and special sessions\nPoster sessions\, industry exhibition and the unique Aqua-Photos exhibition\nA series of initiatives dedicated to early-career researchers which include workshops\, network opportunities\, a dedicated special session\, poster and presentation awards\nExciting mid-conference excursion options\nAn Ice-Breaking Party and a spectacular Gala Dinner
URL:https://stars4water.eu/event/14th-symposium-for-european-freshwater-sciences-sefs-14-bolu-turkey/
LOCATION:Bolu Abant İzzet Baysal University\, University Campus\, Bolu\, 14030\, Turkey
CATEGORIES:Congress
ATTACH;FMTTYPE=image/png:https://stars4water.eu/wp-content/uploads/2025/02/SEFS14-July21-252025-1.png
END:VEVENT
BEGIN:VEVENT
DTSTART;VALUE=DATE:20250824
DTEND;VALUE=DATE:20250829
DTSTAMP:20260424T121442
CREATED:20241218T144442Z
LAST-MODIFIED:20241218T144729Z
UID:1703-1755993600-1756425599@stars4water.eu
SUMMARY:World Water Week 2025: Water for Climate Action\, Stockholm Sweden
DESCRIPTION:World Water Week is the leading conference on global water issues\, held every year since 1991. A non-profit event\, co-created with leading organizations\, World Water Week attracts a diverse mix of participants from many professional backgrounds and every corner of the world. \nWater plays a pivotal role in global efforts to reduce greenhouse gas emissions and to build resilience safeguarding ecosystems and communities. World Water Week 2025 will focus on addressing the linked emergencies of climate change\, environment degradation and biodiversity loss\, emphasizing both mitigation and adaptation\, alongside the broader goal of enhancing resilience.
URL:https://stars4water.eu/event/world-water-week-2025-water-for-climate-action-stockholm-sweden/
CATEGORIES:Congress
ATTACH;FMTTYPE=image/png:https://stars4water.eu/wp-content/uploads/2024/12/464288865_963090915861900_2423164308063372055_n.png
END:VEVENT
BEGIN:VEVENT
DTSTART;VALUE=DATE:20250922
DTEND;VALUE=DATE:20250927
DTSTAMP:20260424T121442
CREATED:20250916T103549Z
LAST-MODIFIED:20250929T110221Z
UID:1957-1758499200-1758931199@stars4water.eu
SUMMARY:STARS4Water Annual General Assembly & Stakeholders' Meetings
DESCRIPTION:STARS4Water will hold its annual General Assembly meeting in Drammen and Finse\, Norway\, on the 22-26th of September 2025. The meeting is organized by the Norwegian Water Resources and Energy Directorate (NVE) and Deltares. During this all partners’ meeting we will discuss the up-to-date project progress\, will interact across teams and work packages\, and will plan ahead for the 4th year of our project. Stakeholders meetings are foreseen back-to-back to collect feedback from our stakeholder partners on the STARS4Water results so far\, the developed products\, and the plans for the next year.
URL:https://stars4water.eu/event/stars4water-annual-general-assembly-stakeholders-meeting/
LOCATION:Union scene\, Grønland 60\, 3045 Drammen & DNT Finsehytta\, Rallarvegen 2612\, 5719 Finse\, Drammen & Finse\, Norway
CATEGORIES:General Assembly
ATTACH;FMTTYPE=image/png:https://stars4water.eu/wp-content/uploads/2025/09/drammen-overhead-image-1536x926-1.png
END:VEVENT
BEGIN:VEVENT
DTSTART;TZID=UTC:20260224T130000
DTEND;TZID=UTC:20260224T143000
DTSTAMP:20260424T121442
CREATED:20260205T120048Z
LAST-MODIFIED:20260205T120048Z
UID:2661-1771938000-1771943400@stars4water.eu
SUMMARY:STARS4Water Online Stakeholders’ Workshop "Applying stakeholder-driven tools for climate-resilient river basin management"
DESCRIPTION:This online Stakeholders’ Workshop\, organised by the STARS4Water project\, brings together river basin authorities\, practitioners\, and scientists to exchange experiences on applying stakeholder-driven tools and processes for climate-resilient water management. \nBuilding on the co-creation approach of STARS4Water\, the workshop will showcase how scientific methods\, data services\, and participatory processes have been applied in real river-basin contexts. A central focus will be on learning from practice: how climate risks are assessed\, how tools are embedded into decision processes\, and what lessons can be transferred across basins. \nThe workshop will also provide direct input into the STARS4Water Synthesis Report and the roadmap towards the Final Conference in 2026. \nWorkshop Objectives \n\nShare concrete experiences from river basin stakeholders applying STARS4Water methods\nReflect on climate-risk contexts\, applications\, and uptake pathways\nIdentify best practices\, lessons learned\, and remaining challenges\nGather stakeholder feedback to shape the STARS4Water Synthesis Report and future outreach\n\nPlease save the date and join us in shaping the next steps for water resilience in Europe and beyond. \nThe program is available here: STARS4Water Stakeholders Workshop_program_24Feb2026.
URL:https://stars4water.eu/event/stars4water-online-stakeholders-workshop-applying-stakeholder-driven-tools-for-climate-resilient-river-basin-management/
LOCATION:Online
CATEGORIES:Workshop
ATTACH;FMTTYPE=image/png:https://stars4water.eu/wp-content/uploads/2026/02/Στιγμιότυπο-οθόνης-2026-02-05-135641.png
END:VEVENT
BEGIN:VEVENT
DTSTART;VALUE=DATE:20260503
DTEND;VALUE=DATE:20260509
DTSTAMP:20260424T121442
CREATED:20260323T111816Z
LAST-MODIFIED:20260323T111816Z
UID:2675-1777766400-1778284799@stars4water.eu
SUMMARY:EGU26 General Assembly\, Vienna Austria
DESCRIPTION:The European Geosciences Union General Assembly 2026 is one of the largest international conferences in the geosciences\, bringing together thousands of researchers from across the world to present and discuss the latest advances in Earth\, climate and environmental sciences. The annual meeting provides an important platform for interdisciplinary exchange and science–policy dialogue. \nSTARS4Water partners will participate and present their project research activities: \nEngeland\, K.\, Gelati\, E.\, Hegdahl\, T. J.\, Huang\, S.\, and Veie\, C. A.: Climate change impacts on water availability and hydropower production – a case study from Drammen river basin in Norway \, EGU General Assembly 2026\, Vienna\, Austria\, 3–8 May 2026\, EGU26-20631\, https://doi.org/10.5194/egusphere-egu26-20631\, 2026. \nAvila\, L.\, Engeland\, K.\, Jahr\, T.\, and Kollet\, S.: A ConvLSTM surrogate model to predict high-resolution daily snow water equivalent in Norway\, EGU General Assembly 2026\, Vienna\, Austria\, 3–8 May 2026\, EGU26-8502\, https://doi.org/10.5194/egusphere-egu26-8502\, 2026. \nPurnamasari\, D.\, Weiland\, F. S.\, Teuling\, A.\, and Weerts\, A.: Quantifying future water demand in the Rhine river basin under climate and socioeconomic change\, EGU General Assembly 2026\, Vienna\, Austria\, 3–8 May 2026\, EGU26-16143\, https://doi.org/10.5194/egusphere-egu26-16143\, 2026. \n 
URL:https://stars4water.eu/event/egu26-general-assembly-vienna-austria/
LOCATION:Austria Center Vienna\, Bruno-Kreisky-Platz 1\, Vienna\, 1220\, Austria
CATEGORIES:General Assembly
ATTACH;FMTTYPE=image/webp:https://stars4water.eu/wp-content/uploads/2026/03/EGU26-Event-Banner-scaled.webp
END:VEVENT
BEGIN:VEVENT
DTSTART;VALUE=DATE:20260915
DTEND;VALUE=DATE:20260917
DTSTAMP:20260424T121442
CREATED:20251221T233604Z
LAST-MODIFIED:20260112T120556Z
UID:2611-1789430400-1789603199@stars4water.eu
SUMMARY:Conference: "Developing stakeholder-driven solutions for a water  resilient river basin management: Connecting Science to Practice"
DESCRIPTION:15-16 th September 2026\, Delft\, Netherlands \nThis Conference\, organised by the STARS4Water project will bring together river basin authorities\, policy makers\, scientific institutions\, and European actors to reflect on advancing climate-resilient water management across Europe. \nThe Conference will focus on the implementation of the EU Water Resilience Strategy\, looking into the practical challenges countries and basins face in strengthening preparedness\, reducing vulnerability\, and building adaptive capacity. A core focus will be on co-creation with stakeholders – demonstrating how linking advanced scientific methods with local knowledge bridges the persistent gap between research communities and basin practitioners. Sessions will illustrate how scientific tools\, modelling frameworks\, and scenario analyses can be tailored to stakeholder needs through an iterative process\, embedded into basin-level decision processes\, and used directly by water managers. \nLearn more and Register here
URL:https://stars4water.eu/event/developing-stakeholder-driven-solutions-for-a-water-resilient-river-basin-management-connecting-science-to-practice/
LOCATION:Deltares\, Boussinesqweg 1\, Delft\, 2629 HV\, Netherlands
CATEGORIES:Conference
ATTACH;FMTTYPE=image/jpeg:https://stars4water.eu/wp-content/uploads/2026/01/Final-Conference_communication-card.jpg
END:VEVENT
END:VCALENDAR