BEGIN:VCALENDAR
VERSION:2.0
PRODID:-//STARS4Water - ECPv6.15.4//NONSGML v1.0//EN
CALSCALE:GREGORIAN
METHOD:PUBLISH
X-WR-CALNAME:STARS4Water
X-ORIGINAL-URL:https://stars4water.eu
X-WR-CALDESC:Events for STARS4Water
REFRESH-INTERVAL;VALUE=DURATION:PT1H
X-Robots-Tag:noindex
X-PUBLISHED-TTL:PT1H
BEGIN:VTIMEZONE
TZID:UTC
BEGIN:STANDARD
TZOFFSETFROM:+0000
TZOFFSETTO:+0000
TZNAME:UTC
DTSTART:20250101T000000
END:STANDARD
END:VTIMEZONE
BEGIN:VEVENT
DTSTART;VALUE=DATE:20250427
DTEND;VALUE=DATE:20250503
DTSTAMP:20260424T110753
CREATED:20241118T113030Z
LAST-MODIFIED:20241118T115605Z
UID:1619-1745712000-1746230399@stars4water.eu
SUMMARY:EGU25 General Assembly\, Vienna Austria
DESCRIPTION:The General Assembly 2025 of the European Geosciences Union (EGU) is held at the Austria Center Vienna (ACV) in Vienna\, Austria and online\, from 27 April–2 May 2025. The assembly is open to the scientists of all nations. The congress centre is wheelchair accessible. \nThe EGU General Assembly 2025 brings together geoscientists from all over the world to one meeting covering all disciplines of the Earth\, planetary\, and space sciences. The EGU aims to provide a forum where scientists\, especially early career researchers\, can present their work and discuss their ideas with experts in all fields of geoscience. \nSTARS4Water partners will participate and present their project research activities. \nFor more information visit the EGU 2025 website.
URL:https://stars4water.eu/event/egu25-general-assembly-vienna-austria/
LOCATION:Austria Center Vienna\, Bruno-Kreisky-Platz 1\, Vienna\, 1220\, Austria
CATEGORIES:General Assembly
ATTACH;FMTTYPE=image/png:https://stars4water.eu/wp-content/uploads/2024/11/EGU25-1.png
END:VEVENT
END:VCALENDAR