BEGIN:VCALENDAR
VERSION:2.0
PRODID:-//STARS4Water - ECPv6.15.4//NONSGML v1.0//EN
CALSCALE:GREGORIAN
METHOD:PUBLISH
X-ORIGINAL-URL:https://stars4water.eu
X-WR-CALDESC:Events for STARS4Water
REFRESH-INTERVAL;VALUE=DURATION:PT1H
X-Robots-Tag:noindex
X-PUBLISHED-TTL:PT1H
BEGIN:VTIMEZONE
TZID:UTC
BEGIN:STANDARD
TZOFFSETFROM:+0000
TZOFFSETTO:+0000
TZNAME:UTC
DTSTART:20250101T000000
END:STANDARD
END:VTIMEZONE
BEGIN:VEVENT
DTSTART;VALUE=DATE:20250424
DTEND;VALUE=DATE:20250427
DTSTAMP:20260424T225145
CREATED:20250116T112403Z
LAST-MODIFIED:20250116T112403Z
UID:1734-1745452800-1745711999@stars4water.eu
SUMMARY:XIII Iberian Congress on Water Management and Planning\, Salamanca Spain
DESCRIPTION:“ From scarcity to the social and environmental reallocation of water ” is the motto of this new edition of the Iberian Congress\, the thirteenth that will bring together researchers\, professionals and social agents from all over the Iberian Peninsula and the world who contribute to achieving a paradigm shift in water management. You will learn about the latest advances and innovative work carried out on the urban water cycle\, governance models in times of scarcity\, the pending challenges we have with water landscapes and ecosystems and the dialogues on the interdependence between water and agricultural socio-ecosystems that lead us towards a fair water transition. \nSTARS4Water partners will participate and present their project research activities.
URL:https://stars4water.eu/event/xiii-iberian-congress-on-water-management-and-planning-salamanca-spain/
CATEGORIES:Congress
ATTACH;FMTTYPE=image/jpeg:https://stars4water.eu/wp-content/uploads/2025/01/fnca-congreso-iberico-gestion-planificacion-agua.jpg
END:VEVENT
END:VCALENDAR